BEGIN:VCALENDAR
VERSION:2.0
PRODID:-//Dzielnicowy Dom Kultury &quot;Węglin&quot; - ECPv6.5.0//NONSGML v1.0//EN
CALSCALE:GREGORIAN
METHOD:PUBLISH
X-WR-CALNAME:Dzielnicowy Dom Kultury &quot;Węglin&quot;
X-ORIGINAL-URL:https://ddkweglin.pl
X-WR-CALDESC:Events for Dzielnicowy Dom Kultury &quot;Węglin&quot;
REFRESH-INTERVAL;VALUE=DURATION:PT1H
X-Robots-Tag:noindex
X-PUBLISHED-TTL:PT1H
BEGIN:VTIMEZONE
TZID:Europe/Warsaw
BEGIN:DAYLIGHT
TZOFFSETFROM:+0100
TZOFFSETTO:+0200
TZNAME:CEST
DTSTART:20260329T010000
END:DAYLIGHT
BEGIN:STANDARD
TZOFFSETFROM:+0200
TZOFFSETTO:+0100
TZNAME:CET
DTSTART:20261025T010000
END:STANDARD
END:VTIMEZONE
BEGIN:VEVENT
DTSTART;TZID=Europe/Warsaw:20260424T100000
DTEND;TZID=Europe/Warsaw:20260424T120000
DTSTAMP:20260421T140738
CREATED:20260331T102020Z
LAST-MODIFIED:20260413T120733Z
UID:10000345-1777024800-1777032000@ddkweglin.pl
SUMMARY:Klub „Aktywni Plus” kwiecień-czerwiec
DESCRIPTION:Zapraszamy na Klub Seniora „Aktywni Plus ” w Dzielnicowym Domu Kultury „Węglin” \n  \nData\, godzina piątki\, godzina 10.00-12.00 \nWstęp wolny! \n  \nPLAN SPOTKAŃ NA KWIECIEŃ \n10 kwietnia\, Spotkanie ciasteczkowo-informacyjne\n17 kwietnia\, Gość - Katarzyna Kozirak: Akwarela\n24 kwietnia\, Gość - Aleksandra Wójtowicz: Haft matematyczny – zakładki do książek (Filia MBP Nr 9\, ul. Krańcowa 106) \nPLAN SPOTKAŃ NA MAJ \n08 maja\, Spotkanie ciesteczkowo-informacyjne\n15 maja\, Wystawa „Czas Samurajów”\, Muzeum Narodowe na Zamku\, zbiórka o godzinie 9.45 przed wejściem\n22 maja\, Gość - Aleksandra Wójtowicz: Haft matematyczny – kwiatowa kartka (Filia MBP Nr 9\, ul. Krańcowa 106)\n29 maja\, Spacer po Ogrodzie botanicznym UMCS\, zbiórka o godzinie 10.00 przed wejściem od ul. Willowej \nPLAN SPOTKAŃ NA CZERWIEC \n12 czerwca\, Spacer wąwozami\, zbiórka o godzinie 10.00 przed wejściem do budynku DDK\n19 czerwca\, Gość - Magdalena Piotrowska: Książki na wakacje\n26 czerwca\, Piknik nad Zalewem Zemborzyckim \n  \nKoordynacja – Monika Spuz-Szpos\, \n81 466 59 16\, 882 433 036\, m.spuz-szpos@ddkweglin.pl \nWięcej informacji na stronie www.ddkweglin.pl \n  \nDOSTĘPNOŚĆ \nInformację o dostępności budynku przeczytasz NA STRONIE \nJeśli potrzebujesz dodatkowych informacji lub chcesz skorzystać z asysty\, skontaktuj się z koordynatorem ds. dostępności: dostepnosc@ddkweglin.pl
URL:https://ddkweglin.pl/wydarzenia/klub-aktywni-plus-kwiecien-czerwiec/2026-04-24/
CATEGORIES:Spotkanie
ATTACH;FMTTYPE=image/png:https://ddkweglin.pl/wp-content/uploads/2026/03/aktywni_kwiecien_czerwiec_www.png
END:VEVENT
BEGIN:VEVENT
DTSTART;TZID=Europe/Warsaw:20260508T100000
DTEND;TZID=Europe/Warsaw:20260508T120000
DTSTAMP:20260421T140738
CREATED:20260331T102020Z
LAST-MODIFIED:20260413T120733Z
UID:10000346-1778234400-1778241600@ddkweglin.pl
SUMMARY:Klub „Aktywni Plus” kwiecień-czerwiec
DESCRIPTION:Zapraszamy na Klub Seniora „Aktywni Plus ” w Dzielnicowym Domu Kultury „Węglin” \n  \nData\, godzina piątki\, godzina 10.00-12.00 \nWstęp wolny! \n  \nPLAN SPOTKAŃ NA KWIECIEŃ \n10 kwietnia\, Spotkanie ciasteczkowo-informacyjne\n17 kwietnia\, Gość - Katarzyna Kozirak: Akwarela\n24 kwietnia\, Gość - Aleksandra Wójtowicz: Haft matematyczny – zakładki do książek (Filia MBP Nr 9\, ul. Krańcowa 106) \nPLAN SPOTKAŃ NA MAJ \n08 maja\, Spotkanie ciesteczkowo-informacyjne\n15 maja\, Wystawa „Czas Samurajów”\, Muzeum Narodowe na Zamku\, zbiórka o godzinie 9.45 przed wejściem\n22 maja\, Gość - Aleksandra Wójtowicz: Haft matematyczny – kwiatowa kartka (Filia MBP Nr 9\, ul. Krańcowa 106)\n29 maja\, Spacer po Ogrodzie botanicznym UMCS\, zbiórka o godzinie 10.00 przed wejściem od ul. Willowej \nPLAN SPOTKAŃ NA CZERWIEC \n12 czerwca\, Spacer wąwozami\, zbiórka o godzinie 10.00 przed wejściem do budynku DDK\n19 czerwca\, Gość - Magdalena Piotrowska: Książki na wakacje\n26 czerwca\, Piknik nad Zalewem Zemborzyckim \n  \nKoordynacja – Monika Spuz-Szpos\, \n81 466 59 16\, 882 433 036\, m.spuz-szpos@ddkweglin.pl \nWięcej informacji na stronie www.ddkweglin.pl \n  \nDOSTĘPNOŚĆ \nInformację o dostępności budynku przeczytasz NA STRONIE \nJeśli potrzebujesz dodatkowych informacji lub chcesz skorzystać z asysty\, skontaktuj się z koordynatorem ds. dostępności: dostepnosc@ddkweglin.pl
URL:https://ddkweglin.pl/wydarzenia/klub-aktywni-plus-kwiecien-czerwiec/2026-05-08/
CATEGORIES:Spotkanie
ATTACH;FMTTYPE=image/png:https://ddkweglin.pl/wp-content/uploads/2026/03/aktywni_kwiecien_czerwiec_www.png
END:VEVENT
BEGIN:VEVENT
DTSTART;TZID=Europe/Warsaw:20260515T100000
DTEND;TZID=Europe/Warsaw:20260515T120000
DTSTAMP:20260421T140738
CREATED:20260331T102020Z
LAST-MODIFIED:20260413T120733Z
UID:10000347-1778839200-1778846400@ddkweglin.pl
SUMMARY:Klub „Aktywni Plus” kwiecień-czerwiec
DESCRIPTION:Zapraszamy na Klub Seniora „Aktywni Plus ” w Dzielnicowym Domu Kultury „Węglin” \n  \nData\, godzina piątki\, godzina 10.00-12.00 \nWstęp wolny! \n  \nPLAN SPOTKAŃ NA KWIECIEŃ \n10 kwietnia\, Spotkanie ciasteczkowo-informacyjne\n17 kwietnia\, Gość - Katarzyna Kozirak: Akwarela\n24 kwietnia\, Gość - Aleksandra Wójtowicz: Haft matematyczny – zakładki do książek (Filia MBP Nr 9\, ul. Krańcowa 106) \nPLAN SPOTKAŃ NA MAJ \n08 maja\, Spotkanie ciesteczkowo-informacyjne\n15 maja\, Wystawa „Czas Samurajów”\, Muzeum Narodowe na Zamku\, zbiórka o godzinie 9.45 przed wejściem\n22 maja\, Gość - Aleksandra Wójtowicz: Haft matematyczny – kwiatowa kartka (Filia MBP Nr 9\, ul. Krańcowa 106)\n29 maja\, Spacer po Ogrodzie botanicznym UMCS\, zbiórka o godzinie 10.00 przed wejściem od ul. Willowej \nPLAN SPOTKAŃ NA CZERWIEC \n12 czerwca\, Spacer wąwozami\, zbiórka o godzinie 10.00 przed wejściem do budynku DDK\n19 czerwca\, Gość - Magdalena Piotrowska: Książki na wakacje\n26 czerwca\, Piknik nad Zalewem Zemborzyckim \n  \nKoordynacja – Monika Spuz-Szpos\, \n81 466 59 16\, 882 433 036\, m.spuz-szpos@ddkweglin.pl \nWięcej informacji na stronie www.ddkweglin.pl \n  \nDOSTĘPNOŚĆ \nInformację o dostępności budynku przeczytasz NA STRONIE \nJeśli potrzebujesz dodatkowych informacji lub chcesz skorzystać z asysty\, skontaktuj się z koordynatorem ds. dostępności: dostepnosc@ddkweglin.pl
URL:https://ddkweglin.pl/wydarzenia/klub-aktywni-plus-kwiecien-czerwiec/2026-05-15/
CATEGORIES:Spotkanie
ATTACH;FMTTYPE=image/png:https://ddkweglin.pl/wp-content/uploads/2026/03/aktywni_kwiecien_czerwiec_www.png
END:VEVENT
BEGIN:VEVENT
DTSTART;TZID=Europe/Warsaw:20260522T100000
DTEND;TZID=Europe/Warsaw:20260522T120000
DTSTAMP:20260421T140738
CREATED:20260331T102020Z
LAST-MODIFIED:20260413T120733Z
UID:10000348-1779444000-1779451200@ddkweglin.pl
SUMMARY:Klub „Aktywni Plus” kwiecień-czerwiec
DESCRIPTION:Zapraszamy na Klub Seniora „Aktywni Plus ” w Dzielnicowym Domu Kultury „Węglin” \n  \nData\, godzina piątki\, godzina 10.00-12.00 \nWstęp wolny! \n  \nPLAN SPOTKAŃ NA KWIECIEŃ \n10 kwietnia\, Spotkanie ciasteczkowo-informacyjne\n17 kwietnia\, Gość - Katarzyna Kozirak: Akwarela\n24 kwietnia\, Gość - Aleksandra Wójtowicz: Haft matematyczny – zakładki do książek (Filia MBP Nr 9\, ul. Krańcowa 106) \nPLAN SPOTKAŃ NA MAJ \n08 maja\, Spotkanie ciesteczkowo-informacyjne\n15 maja\, Wystawa „Czas Samurajów”\, Muzeum Narodowe na Zamku\, zbiórka o godzinie 9.45 przed wejściem\n22 maja\, Gość - Aleksandra Wójtowicz: Haft matematyczny – kwiatowa kartka (Filia MBP Nr 9\, ul. Krańcowa 106)\n29 maja\, Spacer po Ogrodzie botanicznym UMCS\, zbiórka o godzinie 10.00 przed wejściem od ul. Willowej \nPLAN SPOTKAŃ NA CZERWIEC \n12 czerwca\, Spacer wąwozami\, zbiórka o godzinie 10.00 przed wejściem do budynku DDK\n19 czerwca\, Gość - Magdalena Piotrowska: Książki na wakacje\n26 czerwca\, Piknik nad Zalewem Zemborzyckim \n  \nKoordynacja – Monika Spuz-Szpos\, \n81 466 59 16\, 882 433 036\, m.spuz-szpos@ddkweglin.pl \nWięcej informacji na stronie www.ddkweglin.pl \n  \nDOSTĘPNOŚĆ \nInformację o dostępności budynku przeczytasz NA STRONIE \nJeśli potrzebujesz dodatkowych informacji lub chcesz skorzystać z asysty\, skontaktuj się z koordynatorem ds. dostępności: dostepnosc@ddkweglin.pl
URL:https://ddkweglin.pl/wydarzenia/klub-aktywni-plus-kwiecien-czerwiec/2026-05-22/
CATEGORIES:Spotkanie
ATTACH;FMTTYPE=image/png:https://ddkweglin.pl/wp-content/uploads/2026/03/aktywni_kwiecien_czerwiec_www.png
END:VEVENT
BEGIN:VEVENT
DTSTART;TZID=Europe/Warsaw:20260529T100000
DTEND;TZID=Europe/Warsaw:20260529T120000
DTSTAMP:20260421T140738
CREATED:20260331T102020Z
LAST-MODIFIED:20260413T120733Z
UID:10000349-1780048800-1780056000@ddkweglin.pl
SUMMARY:Klub „Aktywni Plus” kwiecień-czerwiec
DESCRIPTION:Zapraszamy na Klub Seniora „Aktywni Plus ” w Dzielnicowym Domu Kultury „Węglin” \n  \nData\, godzina piątki\, godzina 10.00-12.00 \nWstęp wolny! \n  \nPLAN SPOTKAŃ NA KWIECIEŃ \n10 kwietnia\, Spotkanie ciasteczkowo-informacyjne\n17 kwietnia\, Gość - Katarzyna Kozirak: Akwarela\n24 kwietnia\, Gość - Aleksandra Wójtowicz: Haft matematyczny – zakładki do książek (Filia MBP Nr 9\, ul. Krańcowa 106) \nPLAN SPOTKAŃ NA MAJ \n08 maja\, Spotkanie ciesteczkowo-informacyjne\n15 maja\, Wystawa „Czas Samurajów”\, Muzeum Narodowe na Zamku\, zbiórka o godzinie 9.45 przed wejściem\n22 maja\, Gość - Aleksandra Wójtowicz: Haft matematyczny – kwiatowa kartka (Filia MBP Nr 9\, ul. Krańcowa 106)\n29 maja\, Spacer po Ogrodzie botanicznym UMCS\, zbiórka o godzinie 10.00 przed wejściem od ul. Willowej \nPLAN SPOTKAŃ NA CZERWIEC \n12 czerwca\, Spacer wąwozami\, zbiórka o godzinie 10.00 przed wejściem do budynku DDK\n19 czerwca\, Gość - Magdalena Piotrowska: Książki na wakacje\n26 czerwca\, Piknik nad Zalewem Zemborzyckim \n  \nKoordynacja – Monika Spuz-Szpos\, \n81 466 59 16\, 882 433 036\, m.spuz-szpos@ddkweglin.pl \nWięcej informacji na stronie www.ddkweglin.pl \n  \nDOSTĘPNOŚĆ \nInformację o dostępności budynku przeczytasz NA STRONIE \nJeśli potrzebujesz dodatkowych informacji lub chcesz skorzystać z asysty\, skontaktuj się z koordynatorem ds. dostępności: dostepnosc@ddkweglin.pl
URL:https://ddkweglin.pl/wydarzenia/klub-aktywni-plus-kwiecien-czerwiec/2026-05-29/
CATEGORIES:Spotkanie
ATTACH;FMTTYPE=image/png:https://ddkweglin.pl/wp-content/uploads/2026/03/aktywni_kwiecien_czerwiec_www.png
END:VEVENT
BEGIN:VEVENT
DTSTART;TZID=Europe/Warsaw:20260612T100000
DTEND;TZID=Europe/Warsaw:20260612T120000
DTSTAMP:20260421T140738
CREATED:20260331T102020Z
LAST-MODIFIED:20260413T120733Z
UID:10000350-1781258400-1781265600@ddkweglin.pl
SUMMARY:Klub „Aktywni Plus” kwiecień-czerwiec
DESCRIPTION:Zapraszamy na Klub Seniora „Aktywni Plus ” w Dzielnicowym Domu Kultury „Węglin” \n  \nData\, godzina piątki\, godzina 10.00-12.00 \nWstęp wolny! \n  \nPLAN SPOTKAŃ NA KWIECIEŃ \n10 kwietnia\, Spotkanie ciasteczkowo-informacyjne\n17 kwietnia\, Gość - Katarzyna Kozirak: Akwarela\n24 kwietnia\, Gość - Aleksandra Wójtowicz: Haft matematyczny – zakładki do książek (Filia MBP Nr 9\, ul. Krańcowa 106) \nPLAN SPOTKAŃ NA MAJ \n08 maja\, Spotkanie ciesteczkowo-informacyjne\n15 maja\, Wystawa „Czas Samurajów”\, Muzeum Narodowe na Zamku\, zbiórka o godzinie 9.45 przed wejściem\n22 maja\, Gość - Aleksandra Wójtowicz: Haft matematyczny – kwiatowa kartka (Filia MBP Nr 9\, ul. Krańcowa 106)\n29 maja\, Spacer po Ogrodzie botanicznym UMCS\, zbiórka o godzinie 10.00 przed wejściem od ul. Willowej \nPLAN SPOTKAŃ NA CZERWIEC \n12 czerwca\, Spacer wąwozami\, zbiórka o godzinie 10.00 przed wejściem do budynku DDK\n19 czerwca\, Gość - Magdalena Piotrowska: Książki na wakacje\n26 czerwca\, Piknik nad Zalewem Zemborzyckim \n  \nKoordynacja – Monika Spuz-Szpos\, \n81 466 59 16\, 882 433 036\, m.spuz-szpos@ddkweglin.pl \nWięcej informacji na stronie www.ddkweglin.pl \n  \nDOSTĘPNOŚĆ \nInformację o dostępności budynku przeczytasz NA STRONIE \nJeśli potrzebujesz dodatkowych informacji lub chcesz skorzystać z asysty\, skontaktuj się z koordynatorem ds. dostępności: dostepnosc@ddkweglin.pl
URL:https://ddkweglin.pl/wydarzenia/klub-aktywni-plus-kwiecien-czerwiec/2026-06-12/
CATEGORIES:Spotkanie
ATTACH;FMTTYPE=image/png:https://ddkweglin.pl/wp-content/uploads/2026/03/aktywni_kwiecien_czerwiec_www.png
END:VEVENT
BEGIN:VEVENT
DTSTART;TZID=Europe/Warsaw:20260619T100000
DTEND;TZID=Europe/Warsaw:20260619T120000
DTSTAMP:20260421T140738
CREATED:20260331T102020Z
LAST-MODIFIED:20260413T120733Z
UID:10000351-1781863200-1781870400@ddkweglin.pl
SUMMARY:Klub „Aktywni Plus” kwiecień-czerwiec
DESCRIPTION:Zapraszamy na Klub Seniora „Aktywni Plus ” w Dzielnicowym Domu Kultury „Węglin” \n  \nData\, godzina piątki\, godzina 10.00-12.00 \nWstęp wolny! \n  \nPLAN SPOTKAŃ NA KWIECIEŃ \n10 kwietnia\, Spotkanie ciasteczkowo-informacyjne\n17 kwietnia\, Gość - Katarzyna Kozirak: Akwarela\n24 kwietnia\, Gość - Aleksandra Wójtowicz: Haft matematyczny – zakładki do książek (Filia MBP Nr 9\, ul. Krańcowa 106) \nPLAN SPOTKAŃ NA MAJ \n08 maja\, Spotkanie ciesteczkowo-informacyjne\n15 maja\, Wystawa „Czas Samurajów”\, Muzeum Narodowe na Zamku\, zbiórka o godzinie 9.45 przed wejściem\n22 maja\, Gość - Aleksandra Wójtowicz: Haft matematyczny – kwiatowa kartka (Filia MBP Nr 9\, ul. Krańcowa 106)\n29 maja\, Spacer po Ogrodzie botanicznym UMCS\, zbiórka o godzinie 10.00 przed wejściem od ul. Willowej \nPLAN SPOTKAŃ NA CZERWIEC \n12 czerwca\, Spacer wąwozami\, zbiórka o godzinie 10.00 przed wejściem do budynku DDK\n19 czerwca\, Gość - Magdalena Piotrowska: Książki na wakacje\n26 czerwca\, Piknik nad Zalewem Zemborzyckim \n  \nKoordynacja – Monika Spuz-Szpos\, \n81 466 59 16\, 882 433 036\, m.spuz-szpos@ddkweglin.pl \nWięcej informacji na stronie www.ddkweglin.pl \n  \nDOSTĘPNOŚĆ \nInformację o dostępności budynku przeczytasz NA STRONIE \nJeśli potrzebujesz dodatkowych informacji lub chcesz skorzystać z asysty\, skontaktuj się z koordynatorem ds. dostępności: dostepnosc@ddkweglin.pl
URL:https://ddkweglin.pl/wydarzenia/klub-aktywni-plus-kwiecien-czerwiec/2026-06-19/
CATEGORIES:Spotkanie
ATTACH;FMTTYPE=image/png:https://ddkweglin.pl/wp-content/uploads/2026/03/aktywni_kwiecien_czerwiec_www.png
END:VEVENT
BEGIN:VEVENT
DTSTART;TZID=Europe/Warsaw:20260626T100000
DTEND;TZID=Europe/Warsaw:20260626T120000
DTSTAMP:20260421T140738
CREATED:20260331T102020Z
LAST-MODIFIED:20260413T120733Z
UID:10000352-1782468000-1782475200@ddkweglin.pl
SUMMARY:Klub „Aktywni Plus” kwiecień-czerwiec
DESCRIPTION:Zapraszamy na Klub Seniora „Aktywni Plus ” w Dzielnicowym Domu Kultury „Węglin” \n  \nData\, godzina piątki\, godzina 10.00-12.00 \nWstęp wolny! \n  \nPLAN SPOTKAŃ NA KWIECIEŃ \n10 kwietnia\, Spotkanie ciasteczkowo-informacyjne\n17 kwietnia\, Gość - Katarzyna Kozirak: Akwarela\n24 kwietnia\, Gość - Aleksandra Wójtowicz: Haft matematyczny – zakładki do książek (Filia MBP Nr 9\, ul. Krańcowa 106) \nPLAN SPOTKAŃ NA MAJ \n08 maja\, Spotkanie ciesteczkowo-informacyjne\n15 maja\, Wystawa „Czas Samurajów”\, Muzeum Narodowe na Zamku\, zbiórka o godzinie 9.45 przed wejściem\n22 maja\, Gość - Aleksandra Wójtowicz: Haft matematyczny – kwiatowa kartka (Filia MBP Nr 9\, ul. Krańcowa 106)\n29 maja\, Spacer po Ogrodzie botanicznym UMCS\, zbiórka o godzinie 10.00 przed wejściem od ul. Willowej \nPLAN SPOTKAŃ NA CZERWIEC \n12 czerwca\, Spacer wąwozami\, zbiórka o godzinie 10.00 przed wejściem do budynku DDK\n19 czerwca\, Gość - Magdalena Piotrowska: Książki na wakacje\n26 czerwca\, Piknik nad Zalewem Zemborzyckim \n  \nKoordynacja – Monika Spuz-Szpos\, \n81 466 59 16\, 882 433 036\, m.spuz-szpos@ddkweglin.pl \nWięcej informacji na stronie www.ddkweglin.pl \n  \nDOSTĘPNOŚĆ \nInformację o dostępności budynku przeczytasz NA STRONIE \nJeśli potrzebujesz dodatkowych informacji lub chcesz skorzystać z asysty\, skontaktuj się z koordynatorem ds. dostępności: dostepnosc@ddkweglin.pl
URL:https://ddkweglin.pl/wydarzenia/klub-aktywni-plus-kwiecien-czerwiec/2026-06-26/
CATEGORIES:Spotkanie
ATTACH;FMTTYPE=image/png:https://ddkweglin.pl/wp-content/uploads/2026/03/aktywni_kwiecien_czerwiec_www.png
END:VEVENT
END:VCALENDAR