BEGIN:VCALENDAR
VERSION:2.0
PRODID:-//Dzielnicowy Dom Kultury &quot;Węglin&quot; - ECPv6.5.0//NONSGML v1.0//EN
CALSCALE:GREGORIAN
METHOD:PUBLISH
X-ORIGINAL-URL:https://ddkweglin.pl
X-WR-CALDESC:Events for Dzielnicowy Dom Kultury &quot;Węglin&quot;
REFRESH-INTERVAL;VALUE=DURATION:PT1H
X-Robots-Tag:noindex
X-PUBLISHED-TTL:PT1H
BEGIN:VTIMEZONE
TZID:Europe/Warsaw
BEGIN:DAYLIGHT
TZOFFSETFROM:+0100
TZOFFSETTO:+0200
TZNAME:CEST
DTSTART:20260329T010000
END:DAYLIGHT
BEGIN:STANDARD
TZOFFSETFROM:+0200
TZOFFSETTO:+0100
TZNAME:CET
DTSTART:20261025T010000
END:STANDARD
END:VTIMEZONE
BEGIN:VEVENT
DTSTART;TZID=Europe/Warsaw:20260423T180000
DTEND;TZID=Europe/Warsaw:20260423T200000
DTSTAMP:20260421T114029
CREATED:20260413T084313Z
LAST-MODIFIED:20260413T084313Z
UID:10000354-1776967200-1776974400@ddkweglin.pl
SUMMARY:Miasteczko Peyton Place (1957)
DESCRIPTION:Miasteczko Peyton Place (Peyton Place\, USA\, 1957)\nReżyseria: Mark Robson\nObsada: Lana Turner (Constance MacKenzie)\, Lee Philips (Michael Rossi)\, Lloyd Nolan (Dr. Swain)\, Arthur Kennedy (Lucas Cross)\, Russ Tamblyn (Norman Page) i inni.\n\nDługotrwała relacja Hollywoodu z rynkiem literackim często była naznaczona skłonnością do buntowniczych adaptacji. Wystarczy wspomnieć „Zostaw ją niebiosom”\, „Podwójnego ubezpieczenia”\, „Przeminęło z wiatrem”. Nowym elementem strategii Foxa przeciw telewizji było to\, że zamiast wybierać bezpieczne tytuły\,  dążył do tego\, by tworzyć adaptacje zatwierdzone przez Kodeks Produkcyjny\, ale po drodze kwestionować decyzje prewencyjnej cenzury na każdym możliwym kroku i forsować kontrowersyjne elementy filmów jako atut\, którego telewizja nie była w stanie pokazać. Rezultatem był nowy rodzaj adaptacji\, który systematycznie tłumił pewne wartości związane z literackimi wartościami\, jednocześnie rozdmuchując wątki i fetysze fabuły\, prowokujące i modne w wyraźnym celu jednoczesnego ostrożnego przywoływania elementów\, które dotąd były tabu. Kluczowym melodramatem ilustrującym tę nową strategię był film Marka Robsona „Peyton Place” wyprodukowany dla Foxa przez Jerry’ego Walda. Film został wyreżyserowany z ogromnym nakładem finansowym\, z uderzająco malowniczymi plenerami\, uzupełnionymi równie wystawnymi scenami we wnętrzach. Wszystko to pięknie sfotografowane w kolorze przez Williama Mellora\, a Franz Waxman stworzył porywającą\, romantyczną ścieżkę dźwiękową.\n\nOpowiadana historia została ujęta\, podobnie jak powieść\, w ramy historyczne\, rozwijając się od roku bezpośrednio poprzedzającego Pearl Harbor\, przez lata wojny. Myślą przewodnią bestsellerowej powieści Grace Metalious z 1956 roku był kontrast między spokojną powierzchnią życia Peyton Place w Connecticut\, a powszechną korupcją pod spodem. Leslie Harrington knuje intrygę\, by uchronić swojego syna playboya Rodneya przed powołaniem do wojska. Norman Page udaje\, że kuleje\, udając bohatera wojennego. Uprzejmy dr Matthew Swain dokonuje aborcji Seleny Cross po tym\, jak została zgwałcona. Selena została porzucona przez ukochanego z dzieciństwa\, Teda Cartera. Aspirująca pisarka Allison MacKenzie ma romans z nowojorskim agentem literackim. I tak dalej... Film musiał eliminować praktycznie wszystkie ujawnione w powieści przypadki erotycznie niemoralnych doświadczeń bohaterów\, ale film zyskał bo przeniósł punkt ciężkości powieści z wszechobecnej hipokryzji małego miasteczka\, analizę wspólnoty - źródeł ich pragnień\, ich wspólnej potrzeby miłości\, w opozycji do niszczącego pożądania lub niezdrowej represji we wszystkich jej formach. W recenzji filmu Bosley Crowther na łamach „New York Timesa” zarzucił wręcz porzucenie głównego założenia powieści\, jakim jest skupienie się na „jakości hipokryzji\, która demoralizuje społeczność Nowej Anglii. Ale po latach widać\, że reżyser  nie tyle stara się unikać\, co powstrzymywać i neutralizować niesmaczne wątki dla dobra melodramatycznej narracji z elementami romantyzmu. Różnorodne\, podniecające grzechy Peyton Place zostały selektywnie zobrazowane na ekranie - ale specjalnie po to\, by można je było umieścić w gustownym i wizualnie atrakcyjnym obrazie miasteczka\, które jest utopijnie meloldramatyczne w swym sentymentalnym duchu obyczajowej wyrozumiałości i przebaczenia.\n\nFilm był nominowany do dziewięciu Oscarów (najwięcej spośród wszystkich filmów z 1957 roku) choć nie zdobył ani jednego. W swoim studium na temat „Peyton Place” Emily Toth zauważa:„Pomimo oczywistego przeciwieństwa\, książka i film odniosły spektakularny sukces – być może dlatego\, że zaspokajały różne potrzeby. […] Zainteresowani czytelnicy […] mogli pochłaniać\nksiążkę za zamkniętymi drzwiami\, w zaciszu własnego domu i cieszyć się „mocnymi scenami”\, których wciąż odmawiano im w filmach. Jednocześnie mogli oglądać film „Peyton Place” publicznie\, bez moralnych skrupułów”.Toth zwraca uwagę\, że\nstrategia\, którą Fox zastosował\, adaptując prowokacyjną powieść Metaliousa\, została określona dwadzieścia lat wcześniej w Kodeksie Haysa: „W założeniach Biura Haysa o „wartościach kompensacyjnych” zło mogło być w rzeczywistości pokazywane na ekranie – o ile występek w końcu został ukarany\, a cnota w końcu nagrodzona. Rezultat był nieunikniony: rolka za rolką grzechu\, występku\, wstydu i dekadencji\, ale dobre postacie zostały nagrodzone w ostatniej rolce\, a złe ukarane lub\, co najlepsze\, nawrócone”. Struktura opisana przez Totha – siedem rolek spektakularnego grzechu\, po których następuje ósma rolka zasłużonej kary lub nawrócenia – została tutaj ewidentnie wykorzystana. „Peyton Place”\, podniósł ją do rangi zasady estetycznej. Jednocześnie ekranowy „Peyton Place” przyjął pozycję – mniej szokującą\, mniej dosadną\, mniej dociekliwą – a jednocześnie efektowniejszą\, ładniejszą\, atrakcyjniejszą osobowościowo dzięki dobrej obsadzie\, z bardziej romantyczną ścieżką dźwiękową i z zakończeniem bardziej podnoszącym na duchu. Odchodząc od cech od dawna kojarzonych z adaptacjami literackimi – wierności powieści źródłowej\, jej postaciom i środowisku: film Walda zdołał ocalić bohaterów\, ich miasto\, a co za tym idzie\, amerykańską obyczajowość przed potencjalnie zgubną krytyką amerykańskiej literatury.\n\n\nWstęp wolny! \n  \nPrzedstawiamy Wam rozkład jazdy na najnowsze seanse: Akademia Zapomnianych Arcydzieł Filmowych – LOVE STORIES: melodramaty \n  \nDOSTĘPNOŚĆ \nInformację o dostępności budynku przeczytasz NA STRONIE \nJeśli potrzebujesz dodatkowych informacji lub chcesz skorzystać z asysty\, skontaktuj się z koordynatorem ds. dostępności: dostepnosc@ddkweglin.pl
URL:https://ddkweglin.pl/wydarzenia/miasteczko-peyton-place-1957/
CATEGORIES:Film
ATTACH;FMTTYPE=image/png:https://ddkweglin.pl/wp-content/uploads/2026/04/azaf_26_www7.png
END:VEVENT
BEGIN:VEVENT
DTSTART;TZID=Europe/Warsaw:20260424T100000
DTEND;TZID=Europe/Warsaw:20260424T120000
DTSTAMP:20260421T114029
CREATED:20260331T102020Z
LAST-MODIFIED:20260413T120733Z
UID:10000345-1777024800-1777032000@ddkweglin.pl
SUMMARY:Klub „Aktywni Plus” kwiecień-czerwiec
DESCRIPTION:Zapraszamy na Klub Seniora „Aktywni Plus ” w Dzielnicowym Domu Kultury „Węglin” \n  \nData\, godzina piątki\, godzina 10.00-12.00 \nWstęp wolny! \n  \nPLAN SPOTKAŃ NA KWIECIEŃ \n10 kwietnia\, Spotkanie ciasteczkowo-informacyjne\n17 kwietnia\, Gość - Katarzyna Kozirak: Akwarela\n24 kwietnia\, Gość - Aleksandra Wójtowicz: Haft matematyczny – zakładki do książek (Filia MBP Nr 9\, ul. Krańcowa 106) \nPLAN SPOTKAŃ NA MAJ \n08 maja\, Spotkanie ciesteczkowo-informacyjne\n15 maja\, Wystawa „Czas Samurajów”\, Muzeum Narodowe na Zamku\, zbiórka o godzinie 9.45 przed wejściem\n22 maja\, Gość - Aleksandra Wójtowicz: Haft matematyczny – kwiatowa kartka (Filia MBP Nr 9\, ul. Krańcowa 106)\n29 maja\, Spacer po Ogrodzie botanicznym UMCS\, zbiórka o godzinie 10.00 przed wejściem od ul. Willowej \nPLAN SPOTKAŃ NA CZERWIEC \n12 czerwca\, Spacer wąwozami\, zbiórka o godzinie 10.00 przed wejściem do budynku DDK\n19 czerwca\, Gość - Magdalena Piotrowska: Książki na wakacje\n26 czerwca\, Piknik nad Zalewem Zemborzyckim \n  \nKoordynacja – Monika Spuz-Szpos\, \n81 466 59 16\, 882 433 036\, m.spuz-szpos@ddkweglin.pl \nWięcej informacji na stronie www.ddkweglin.pl \n  \nDOSTĘPNOŚĆ \nInformację o dostępności budynku przeczytasz NA STRONIE \nJeśli potrzebujesz dodatkowych informacji lub chcesz skorzystać z asysty\, skontaktuj się z koordynatorem ds. dostępności: dostepnosc@ddkweglin.pl
URL:https://ddkweglin.pl/wydarzenia/klub-aktywni-plus-kwiecien-czerwiec/2026-04-24/
CATEGORIES:Spotkanie
ATTACH;FMTTYPE=image/png:https://ddkweglin.pl/wp-content/uploads/2026/03/aktywni_kwiecien_czerwiec_www.png
END:VEVENT
BEGIN:VEVENT
DTSTART;TZID=Europe/Warsaw:20260425T110000
DTEND;TZID=Europe/Warsaw:20260425T120000
DTSTAMP:20260421T114029
CREATED:20260414T081843Z
LAST-MODIFIED:20260414T082027Z
UID:10000355-1777114800-1777118400@ddkweglin.pl
SUMMARY:Tropem Dźwięku: Gorąca Hiszpania
DESCRIPTION:Będzie gorąco! Tym razem wyruszamy w muzyczną podróż do słonecznej Hiszpanii\, gdzie rytm wyznacza flamenco\, klaskanie i taniec! Podczas muzycznego poranka dzieci zanurzą się w świecie dźwięków z krainy fiesty. Poznają charakterystyczne instrumenty takie jak cajón\, kastaniety i tamburyn. Usłyszą ich brzmienie\, sprawdzą we własnych dłoniach i przekonają się\, jak powstaje ognisty hiszpański rytm. Nie zabraknie też ciekawostek o Hiszpanii! A na zakończenie stworzymy wspólną radosną orkiestrę. \n  \nKiedy: 25 kwietnia 2026\, godzina 11.00 \nDla: dzieci (4-9 lat) \nKoszt: 20 złotych od Dziecka \nZapisy: poprzez FORMULARZ (kliknij w link) \nCzas trwania zajęć: 50 minut \nMuzyczne poranki prowadzi Kamil Adach – muzyk\, kompozytor\, edukator i pasjonat instrumentów perkusyjnych. Od kilku lat dzieli się swoją pasją w przedszkolach\, szkołach oraz domach kultury\, angażując najmłodszych w świat dźwięków i rytmów. Jego umiejętność nawiązywania kontaktu oraz wprowadzania muzycznej energii w dziecięcy świat zaowocowała setkami zrealizowanych spotkań edukacyjnych. \n  \nWIĘCEJ O CYKLU „TROPEM DŹWIĘKU” \n  \nDostępność i treści wrażliwe\nPodczas zajęć Dzieci grają na instrumentach o różnym natężeniu głośności oraz muzykują do podkładu dźwiękowego. W razie potrzeby dysponujemy słuchawkami wygłuszającymi. Zajęcia odbywają się bez obecności Opiekunów\, jednak jeśli Dziecko potrzebuje asysty Rodzica lub innego Opiekuna\, istnieje możliwość\, by dodatkowo osoba dorosła weszła na salę. \nInformację o dostępności budynku przeczytasz NA STRONIE \nJeśli potrzebujesz dodatkowych informacji lub chcesz skorzystać z asysty\, skontaktuj się z koordynatorem dostępności: dostepnosc@ddkweglin.pl
URL:https://ddkweglin.pl/wydarzenia/tropem-dzwieku-goraca-hiszpania/
CATEGORIES:DLA DZIECI
ATTACH;FMTTYPE=image/png:https://ddkweglin.pl/wp-content/uploads/2026/04/hiszpania_www.png
END:VEVENT
END:VCALENDAR